BEGIN:VCALENDAR
VERSION:2.0
PRODID:-//SAŠA INKUBATOR - ECPv6.15.20//NONSGML v1.0//EN
CALSCALE:GREGORIAN
METHOD:PUBLISH
X-WR-CALNAME:SAŠA INKUBATOR
X-ORIGINAL-URL:https://sasainkubator.si
X-WR-CALDESC:Dogodki za SAŠA INKUBATOR
REFRESH-INTERVAL;VALUE=DURATION:PT1H
X-Robots-Tag:noindex
X-PUBLISHED-TTL:PT1H
BEGIN:VTIMEZONE
TZID:UTC
BEGIN:STANDARD
TZOFFSETFROM:+0000
TZOFFSETTO:+0000
TZNAME:UTC
DTSTART:20250101T000000
END:STANDARD
END:VTIMEZONE
BEGIN:VEVENT
DTSTART;TZID=UTC:20260408T170000
DTEND;TZID=UTC:20260611T230000
DTSTAMP:20260424T094117
CREATED:20260316T103149Z
LAST-MODIFIED:20260407T081352Z
UID:19487-1775667600-1781218800@sasainkubator.si
SUMMARY:STARTUP GENERATOR 2026
DESCRIPTION:Imaš dobro startup idejo\, pa te nihče ne opazi? 				\n				\n				\n				\n									Dober produkt ali storitev sam po sebi še ne prinese uspeha. Ampak to itak že veš. \nZato smo zate v SAŠA inkubatorju pripravili praktično online delavnico\, na kateri se bomo osredotočili na ključne marketinške temelje\, ki jih startupi potrebujete v zgodnji fazi razvoja – brez velikega proračuna in z jasnim fokusom na rezultat. \nZ nami bo Ana Anžej\, strokovnjakinja za strateški marketing in podjetniško svetovanje. Startupom pomaga najti jasen fokus\, oblikovati zgodbo in postaviti komunikacijo\, ki na trgu dejansko deluje. Na njenih delavnicah lahko pričakujete konkretne primere iz prakse\, jasno strukturo in neposredne usmeritve\, kako postati viden in priti do pravih ljudi. \n  \nNa delavnici boš:– spoznal/a\, kako z omejenimi sredstvi doseči konkretne marketinške rezultate\,– razumel/a\, kako zgraditi znamko\, ki izstopa in nagovarja pravo ciljno skupino\,– pridobil/a pristope za preboj v prenasičenem digitalnem okolju\,– prepoznal/a najpogostejše napake startupov v marketingu in se jim znal/a izogniti\,– oblikoval/a jasnejša sporočila\, ki jih trg razume in nanje reagira. \n  \nDruga delavnica v sklopu Startup Academy je namenjena startupom in inovativnim ekipam\, ki želijo razumeti\, kako z omejenimi sredstvi zgraditi prepoznavnost\, doseči prave ljudi in priti do prvih strank. Celoten program letos poteka online\, kar omogoča udeležbo ne glede na lokacijo. \n  \nKDAJ: 22. 4. 2026 ob 17:00KJE: ONLINE 								\n				\n				\n				\n					PRIJAVO NA DOGODEK ODDAJ TUKAJ:				\n				\n				\n				\n									\n					\n						\n									PRIJAVA\n					\n					\n				\n								\n				\n				\n				\n									Aktivnost se izvaja v okviru operacije JR Start – up konzorcij in jo sofinancirata Republika Slovenija in Evropska unija in sicer iz Evropskega sklada za regionalni razvoj v okviru Programa evropske kohezijske politike v obdobju od 2021 do 2027. 								\n				\n					\n		\n					\n		\n				\n						\n					\n			\n						\n				\n									\n	\n		\n			22 aprila		\n\n					\n				 @ 			\n			\n				5:00 pop			\n		\n									\n					 - 				\n			\n							\n					8:00 pop				\n			\n						 \n\n\n  \n\n  \n\n	\n		\n	\n	\n		\n			\n				\n					\n						\n	\n	\n\n						\n							Dodaj v koledar						\n						\n	\n\n					\n					\n						\n															\n									\n										Google koledar									\n								\n															\n									\n										iCalendar									\n								\n															\n									\n										Outlook 365									\n								\n															\n									\n										Outlook Live
URL:https://sasainkubator.si/dogodki/startup-generator-2026/
LOCATION:Saša Inkubator\, Šaleška cesta 2A\, Velenje\, 3320 Velenje
CATEGORIES:aktualno
ATTACH;FMTTYPE=image/jpeg:https://sasainkubator.si/wp-content/uploads/2026/03/2.jpg
END:VEVENT
END:VCALENDAR